BEGIN:VCALENDAR
VERSION:2.0
PRODID:-//Raise your spirits - ECPv6.15.20//NONSGML v1.0//EN
CALSCALE:GREGORIAN
METHOD:PUBLISH
X-WR-CALNAME:Raise your spirits
X-ORIGINAL-URL:https://raise-your-spirits.at
X-WR-CALDESC:Veranstaltungen für Raise your spirits
REFRESH-INTERVAL;VALUE=DURATION:PT1H
X-Robots-Tag:noindex
X-PUBLISHED-TTL:PT1H
BEGIN:VTIMEZONE
TZID:Europe/Berlin
BEGIN:DAYLIGHT
TZOFFSETFROM:+0100
TZOFFSETTO:+0200
TZNAME:CEST
DTSTART:20240331T010000
END:DAYLIGHT
BEGIN:STANDARD
TZOFFSETFROM:+0200
TZOFFSETTO:+0100
TZNAME:CET
DTSTART:20241027T010000
END:STANDARD
BEGIN:DAYLIGHT
TZOFFSETFROM:+0100
TZOFFSETTO:+0200
TZNAME:CEST
DTSTART:20250330T010000
END:DAYLIGHT
BEGIN:STANDARD
TZOFFSETFROM:+0200
TZOFFSETTO:+0100
TZNAME:CET
DTSTART:20251026T010000
END:STANDARD
BEGIN:DAYLIGHT
TZOFFSETFROM:+0100
TZOFFSETTO:+0200
TZNAME:CEST
DTSTART:20260329T010000
END:DAYLIGHT
BEGIN:STANDARD
TZOFFSETFROM:+0200
TZOFFSETTO:+0100
TZNAME:CET
DTSTART:20261025T010000
END:STANDARD
BEGIN:DAYLIGHT
TZOFFSETFROM:+0100
TZOFFSETTO:+0200
TZNAME:CEST
DTSTART:20270328T010000
END:DAYLIGHT
BEGIN:STANDARD
TZOFFSETFROM:+0200
TZOFFSETTO:+0100
TZNAME:CET
DTSTART:20271031T010000
END:STANDARD
END:VTIMEZONE
BEGIN:VEVENT
DTSTART;TZID=Europe/Berlin:20260115T180000
DTEND;TZID=Europe/Berlin:20260115T220000
DTSTAMP:20260426T013351
CREATED:20250604T093222Z
LAST-MODIFIED:20260129T140831Z
UID:10000041-1768500000-1768514400@raise-your-spirits.at
SUMMARY:Malt & Meat Grillseminar mit Whisk(e)y
DESCRIPTION:Dauer: 240 min.\n\n\nGeräucherte Chicken Drumsticks mit Whisky BBQ Sauce & Chips\nSchweinslungenbraten in Teriyaki Erdnussmantel am Zedernholzbrett mit Erdäpfel-Schnittlauch Stampf\nGesmokte Rinderhüfte mit Baked Beans & Brot vom Grill\nGegrillte Banane mit gesalzener Karamellsauce & Bourbon-Vanilleeis\n\n\n135\,00 €\n\nPreis inkl. MwSt. \n\nEin 4-Gänge Grillkurs kombiniert mit einer Whisky-Verkostung – ein großartiges Genuss-Highlight.\n\nGemeinsam mit unserem Whiskyexperten verkosten Sie 7 Whiskysorten. Unser Whiskysommelier (raise-your-spirits.at) führt Sie durch das Whisky Tasting\, erläutert Ihnen die Unterschiede in der Machart der einzelnen Produkte\, erzählt über die Geschichte und Geschichten des Lebenswassers und steht für Ihre Fragen zur Verfügung. Sie lernen die richtigen Verkostungstechniken kennen\, um die unterschiedlichen Geschmackskomponenten im Whisky identifizieren und benennen zu können. \nMit unserem Weber Grillmeister bereiten Sie ein exklusives 4-Gänge Menü mit Fleischschwerpunkt am Grill zu. Außerdem erklärt unser Grillmeister die wichtigsten Grillmethoden und führt Sie in das Thema Geschmacksräuchern ein. \nBuchungen über Weber Grill Akademie
URL:https://raise-your-spirits.at/veranstaltung/malt-meat-grillseminar-mit-whiskey-2/2026-01-15/
LOCATION:Weber Original Store und Weber Grill Academy Wien Süd\, Wienerstraße 131-133\, Brunn am Gebirge\, Niederösterreich\, 2345\, Austria
CATEGORIES:Verkostungen rund um Whisk(e)y
ATTACH;FMTTYPE=image/jpeg:https://raise-your-spirits.at/wp-content/uploads/2024/07/Raise-your-spirits_Food-Pairing_01.jpg
END:VEVENT
BEGIN:VEVENT
DTSTART;TZID=Europe/Berlin:20251106T180000
DTEND;TZID=Europe/Berlin:20251106T220000
DTSTAMP:20260426T013351
CREATED:20250604T093845Z
LAST-MODIFIED:20260129T140701Z
UID:10000042-1762452000-1762466400@raise-your-spirits.at
SUMMARY:Rum & BBQ – Grillseminar mit Rum
DESCRIPTION:Dauer: 240 min.\nDas Menü\n\n\nCachaça-Limetten-Garnelen Spieße\nJamaican Jerk Chicken mit gegrilltem Brot\nLubina (Wolfsbarsch) Caribbean Style\nFruity Pork Ribs mit kreolischem Reis\nFlambierte Früchte vom Grill\n\n\n135\,00 €\nPreis inkl. MwSt.\n\nGemeinsam mit unserem Rum Experten verkosten Sie 7 hochwertige Rums. Unser Rumsommelier führt Sie durch das Rum Tasting\, erläutert Ihnen die Unterschiede in der Machart der einzelnen Produkte\, erzählt über die Geschichte und steht für Ihre Fragen zur Verfügung. Sie lernen die richtigen Verkostungstechniken kennen\, um die unterschiedlichen Geschmackskomponenten im Rum identifizieren und benennen zu können. \nMit unserem Weber Grillmeister bereiten Sie ein passendes & exklusives 5-Gänge Menü am Grill zu. Außerdem erklärt unser Grillmeister die wichtigsten Grillmethoden und gibt wertvolle Tipps & Tricks. \nIn der Kursgebühr enthalten sind: Lebensmittel\, 1 Rum Long Drink\, 7 ausgewählte Rums für die Verkostung\, Kursunterlagen mit Rezepten. \nMit unserer legendären Weber Smokey Joe Bar mit einer großen Auswahl an Getränken (Bier\, Wein\, alkoholfreie Getränke). \nBuchungen über die Weber Grillakademie
URL:https://raise-your-spirits.at/veranstaltung/rum-bbq-grillseminar-mit-rum/2025-11-06/
LOCATION:Weber Original Store und Weber Grill Academy Wien Süd\, Wienerstraße 131-133\, Brunn am Gebirge\, Niederösterreich\, 2345\, Austria
CATEGORIES:Verkostungen rund um Rum/Rhum
ATTACH;FMTTYPE=image/jpeg:https://raise-your-spirits.at/wp-content/uploads/2025/06/Ruthner-Weber-Grill-Rum-BBQ-scaled.jpg
END:VEVENT
BEGIN:VEVENT
DTSTART;TZID=Europe/Berlin:20251016T180000
DTEND;TZID=Europe/Berlin:20251016T220000
DTSTAMP:20260426T013351
CREATED:20250604T100501Z
LAST-MODIFIED:20250604T100501Z
UID:10000043-1760637600-1760652000@raise-your-spirits.at
SUMMARY:Steak & Gin - Grillseminar mit Ginverkostung
DESCRIPTION:Dauer: 240 min.\n\n\nDas perfekte Steak (Uruguay Grain Fed)\nBeef-Burger vom US Steak\nRoastbeef (österreichische Kalbin) mit Beilagen\nChocolate Cake vom Grill\n\n\n135\,00 €\nPreis inkl. MwSt.\n\nEin Steak-Grillkurs in Kombination mit einer Gin-/Tonicverkostung – ein außergewöhnliches & einmaliges Genuss-Highlight! \nGemeinsam mit unserem Weber Grillmeister bereiten Sie 4 exklusive Gänge am Grill zu: \n\nDas perfekte Steak (Uruguay Grain Fed)\nBeef-Burger vom US Steak\nRoastbeef (österreichische Kalbin) mit Beilagen\nChocolate Cake vom Grill\n\nUnser Ginexperte führt Sie durch das Gin Tasting\, erläutert Ihnen die Unterschiede in der Machart der einzelnen Produkte\, erzählt über die Geschichte und Geschichten des G&T und steht für Ihre Fragen zur Verfügung. Sie lernen die richtigen Verkostungstechniken kennen\, um die unterschiedlichen Geschmackskomponenten im Gin identifizieren und benennen zu können. Unser Experte gibt Anleitungen zur Auswahl des richtigen Tonics zu den einzelnen Ginsorten. \nIn der Kursgebühr enthalten sind: Lebensmittel\, 6 ausgewählte Gins & 3 Tonics für die Verkostung\, Kursunterlagen mit Rezepten. \nBuchungen über Weber Grillakademie
URL:https://raise-your-spirits.at/veranstaltung/steak-gin-grillseminar-mit-ginverkostung/
LOCATION:Weber Original Store und Weber Grill Academy Wien Süd\, Wienerstraße 131-133\, Brunn am Gebirge\, Niederösterreich\, 2345\, Austria
ATTACH;FMTTYPE=image/jpeg:https://raise-your-spirits.at/wp-content/uploads/2024/07/20240711_201922-scaled.jpg
END:VEVENT
BEGIN:VEVENT
DTSTART;TZID=Europe/Berlin:20250611T180000
DTEND;TZID=Europe/Berlin:20250611T220000
DTSTAMP:20260426T013351
CREATED:20250428T121745Z
LAST-MODIFIED:20250604T093426Z
UID:10000014-1749664800-1749679200@raise-your-spirits.at
SUMMARY:Malt & Meat Grillseminar mit Whisk(e)y
DESCRIPTION:Dauer: 240 min.\n\n\nGeräucherte Chicken Drumsticks mit Whisky BBQ Sauce & Chips\nSchweinslungenbraten in Teriyaki Erdnussmantel am Zedernholzbrett mit Erdäpfel-Schnittlauch Stampf\nGesmokte Rinderhüfte mit Baked Beans & Brot vom Grill\nGegrillte Banane mit gesalzener Karamellsauce & Bourbon-Vanilleeis\n\n\n135\,00 €\n\nPreis inkl. MwSt. \n\nEin 4-Gänge Grillkurs kombiniert mit einer Whisky-Verkostung – ein großartiges Genuss-Highlight.\n\nGemeinsam mit unserem Whiskyexperten verkosten Sie 7 Whiskysorten. Unser Whiskysommelier (raise-your-spirits.at) führt Sie durch das Whisky Tasting\, erläutert Ihnen die Unterschiede in der Machart der einzelnen Produkte\, erzählt über die Geschichte und Geschichten des Lebenswassers und steht für Ihre Fragen zur Verfügung. Sie lernen die richtigen Verkostungstechniken kennen\, um die unterschiedlichen Geschmackskomponenten im Whisky identifizieren und benennen zu können. \nMit unserem Weber Grillmeister bereiten Sie ein exklusives 4-Gänge Menü mit Fleischschwerpunkt am Grill zu. Außerdem erklärt unser Grillmeister die wichtigsten Grillmethoden und führt Sie in das Thema Geschmacksräuchern ein. \nBuchungen über Weber Grill Akademie
URL:https://raise-your-spirits.at/veranstaltung/malt-meat-grillseminar-mit-whiskey/
LOCATION:Weber Original Store und Weber Grill Academy Wien Süd\, Wienerstraße 131-133\, Brunn am Gebirge\, Niederösterreich\, 2345\, Austria
CATEGORIES:Verkostungen rund um Whisk(e)y
ATTACH;FMTTYPE=image/jpeg:https://raise-your-spirits.at/wp-content/uploads/2024/07/Raise-your-spirits_Food-Pairing_01.jpg
END:VEVENT
BEGIN:VEVENT
DTSTART;TZID=Europe/Berlin:20250531T120000
DTEND;TZID=Europe/Berlin:20250531T153000
DTSTAMP:20260426T013351
CREATED:20250428T120636Z
LAST-MODIFIED:20250428T120657Z
UID:10000010-1748692800-1748705400@raise-your-spirits.at
SUMMARY:American BBQ + American Whiskey Tasting
DESCRIPTION:All you can eat – American Barbecue Buffet & Flying Buffet – direkt vom Grill (mit Beef Brisket\, Pulled Pork\, Spare Ribs\, Chicken Wings uvm.) inkl. 1 Begrüßungsgetränk. \nGegrillt wird von Pulled Pork Grillweltmeister & Dipl. Fleischsommelier Patrick Bayer. \nMit unserer legendären Weber Smokey Joe Bar mit einer großen Auswahl an Getränken (Bier\, Wein\, Whisky\, Rum\, Long Drinks & alkoholfreie Getränke). \nim Anschluss: \nAll American . die Evolution des Bourbon Whiskeys \nDas Image von amerikanischen Whiskeysorten ist meist nicht das Beste\, der Gedanke an Mischgetränke mit Cola kommt viel zu leicht zum Vorschein. Tatsächlich hat der „native american spirit“ eine hervorragende Qualität und verfügt über eine mehr als dreihundert Jahre andauernde Tradition und Geschichte. Von den ersten Siedlern\, die vor 1800 mit dem neuen Getreide Mais zu arbeiten lernten\, über die Ansiedlung der ersten Brennereien\, die heute noch ein Begriff sind\, bis hin zu Neuerungen am amerikanischen Whiskeymarkt. \nErleben Sie die Anfänge des Bourbons\, die von Persönlichkeiten wie Elijah Craig und Evan Williams geprägt wurden\, erfahren Sie warum Jack Daniel als „the boy distiller“ in die amerikanische Geschichte einging. Dieses Seminar geht auf geschmackliche Besonderheiten von Cornwhiskey\, Rye und verschiedenen Bourbonarten ein. Sie erfahren\, was Small Batch und Single Barrel bedeutet\, oder warum wahre Kenner einen „bottled in bond“ Bourbon über alle Maßen schätzen. Dadurch verstärkt sich die Sicherheit im Umgang mit amerikanischem Whiskey und der Spaß daran auch mal einen Bourbon pur\, als Cocktail oder in einem typischen Longdrink zu genießen. \nUnser Whiskyexperte führt Sie durch das Tasting\, erläutert Ihnen die Unterschiede in der Machart der einzelnen Produkte\, erzählt über die Geschichte und Geschichten amerikanischer Whiskeykultur und steht für Ihre Fragen zur Verfügung \nSie lernen die richtigen Verkostungstechniken kennen\, um die unterschiedlichen Geschmackskomponenten im Whiskey identifizieren und benennen zu können. \nDas Tasting beinhaltet acht Proben verschiedener Arten amerikanischer Whiskies\, die Ihnen die Möglichkeit bieten möglichst viele verschiedene Stile zu probieren. \nVerkostet werden:* \n\n1 Moonshine\, bzw. White Dog\n1 Straight Corn Whiskey\n1 Straight Rye Whiskey\n1 Tennessee Whiskey\n1 Straight Bourbon Whiskey\n1 Wheated Bourbon Whiskey\n1 Small Batch Bourbon Whiskey\n1 Single Barrel Bourbon Whiskey\n\n(*Proben können nach Verfügbarkeit variieren) \nBuchungen über die Weber Grillakademie \n 
URL:https://raise-your-spirits.at/veranstaltung/american-bbq-american-whiskey-tasting/
LOCATION:Weber Original Store und Weber Grill Academy Wien Süd\, Wienerstraße 131-133\, Brunn am Gebirge\, Niederösterreich\, 2345\, Austria
CATEGORIES:Verkostungen rund um Whisk(e)y
ATTACH;FMTTYPE=image/jpeg:https://raise-your-spirits.at/wp-content/uploads/2024/07/Raise-your-spirits_Food-Pairing_01.jpg
END:VEVENT
END:VCALENDAR