BEGIN:VCALENDAR
VERSION:2.0
PRODID:-//Raise your spirits - ECPv6.15.20//NONSGML v1.0//EN
CALSCALE:GREGORIAN
METHOD:PUBLISH
X-ORIGINAL-URL:https://raise-your-spirits.at
X-WR-CALDESC:Veranstaltungen für Raise your spirits
REFRESH-INTERVAL;VALUE=DURATION:PT1H
X-Robots-Tag:noindex
X-PUBLISHED-TTL:PT1H
BEGIN:VTIMEZONE
TZID:Europe/Berlin
BEGIN:DAYLIGHT
TZOFFSETFROM:+0100
TZOFFSETTO:+0200
TZNAME:CEST
DTSTART:20240331T010000
END:DAYLIGHT
BEGIN:STANDARD
TZOFFSETFROM:+0200
TZOFFSETTO:+0100
TZNAME:CET
DTSTART:20241027T010000
END:STANDARD
BEGIN:DAYLIGHT
TZOFFSETFROM:+0100
TZOFFSETTO:+0200
TZNAME:CEST
DTSTART:20250330T010000
END:DAYLIGHT
BEGIN:STANDARD
TZOFFSETFROM:+0200
TZOFFSETTO:+0100
TZNAME:CET
DTSTART:20251026T010000
END:STANDARD
BEGIN:DAYLIGHT
TZOFFSETFROM:+0100
TZOFFSETTO:+0200
TZNAME:CEST
DTSTART:20260329T010000
END:DAYLIGHT
BEGIN:STANDARD
TZOFFSETFROM:+0200
TZOFFSETTO:+0100
TZNAME:CET
DTSTART:20261025T010000
END:STANDARD
BEGIN:DAYLIGHT
TZOFFSETFROM:+0100
TZOFFSETTO:+0200
TZNAME:CEST
DTSTART:20270328T010000
END:DAYLIGHT
BEGIN:STANDARD
TZOFFSETFROM:+0200
TZOFFSETTO:+0100
TZNAME:CET
DTSTART:20271031T010000
END:STANDARD
END:VTIMEZONE
BEGIN:VEVENT
DTSTART;TZID=Europe/Berlin:20260417T193000
DTEND;TZID=Europe/Berlin:20260417T210000
DTSTAMP:20260425T223247
CREATED:20251007T125030Z
LAST-MODIFIED:20251007T125030Z
UID:10000052-1776454200-1776459600@raise-your-spirits.at
SUMMARY:Peat Monsters - Gewaltig torfige Malts
DESCRIPTION:Rauchig-torfige Single Malts liegen voll im Trend\, denn aus der Notwendigkeit Malz mit Torffeuer zu trocknen und damit den Rauchgeschmack in Kauf nehmen zu müssen\, ist längst eine geschmackliche Spezialität geworden\, die eine immer größere Fangemeinde in ihren Bann zieht. Unter den schottischen Whiskyregionen ist die kleine Insel Islay die berühmteste\, wenn es Torfgehalt im Whisky geht. Auf der Insel\, die an der Westküste Schottlands ungefähr auf der gleichen geographischen Breite\, wie Glasgow und Edinburgh liegt\, arbeiten derzeit acht Brennereien\, von denen sechs ausschließlich torfigen Malt produzieren. \nBei unserer Verkostung tauchen wir in die Welt des Torfes ein und gehen der Frage nach\, wie der signifikante Rauchgeschmack überhaupt in den fertigen Whisky kommt. Wir verkosten Proben der torfigsten Abfüllungen\, die von den verschiedensten Produzenten derzeit zu haben sind und widmen uns auch Abfüllungen von unabhängigen Firmen\, die Islay Torf gerne in ihrem Programm führen. \n\nDas Tasting findet im der edlen Bar des Trinity Pubs statt\nUnser Whiskyexperte führt Sie durch das Tasting\, erläutert Ihnen die Unterschiede in der Machart der einzelnen Produkte\, erzählt über die Geschichte und Geschichten schottischer Whiskykultur und steht für Ihre Fragen zur Verfügung\nSie lernen die richtigen Verkostungstechniken kennen\, um die unterschiedlichen Geschmackskomponenten im Whisky identifizieren und benennen zu können.\nDas Tasting beinhaltet acht Proben verschiedener torfiger Malt der Insel Islay und bietet Ihnen die Möglichkeit die Unterschiede zu schmecken.\nVerkostet werden*:\n\nEine Auswahl von Single Malt Abfüllungen von den renommierten Brennereien der Insel Islay\, wie Ardbeg\, Bowmore\, Bunnahabhain\, Bruichladdich\, Caol Ila\, Kilchoman\, Lagavulin\, Laphroaig\nSpezialabfüllungen\, zB. die torfigsten Malts der Welt der Marke Octomore\nAbfüllungen von der Isle of Skye\n\n\n\n\nDie Proben umfassen auch Fass Stärken über 50% vol.\n\n*Proben können nach Verfügbarkeit variieren \nPeat Monsters hier buchen!
URL:https://raise-your-spirits.at/veranstaltung/peat-monsters-gewaltig-torfige-malts-4/
LOCATION:Trinity Pub\, Rilkeplatz 3\, Wien\, Wien\, 1040\, Austria
CATEGORIES:Verkostungen rund um Whisk(e)y
ATTACH;FMTTYPE=image/jpeg:https://raise-your-spirits.at/wp-content/uploads/2024/07/Raise-your-spirits_Whiskey-Whiskey_02.jpg
END:VEVENT
BEGIN:VEVENT
DTSTART;TZID=Europe/Berlin:20260318T193000
DTEND;TZID=Europe/Berlin:20260318T213000
DTSTAMP:20260425T223247
CREATED:20251007T125802Z
LAST-MODIFIED:20251007T125802Z
UID:10000060-1773862200-1773869400@raise-your-spirits.at
SUMMARY:Whisky around the world
DESCRIPTION:Whisky ist auf einem globalen Siegeszug: Schottland und Irland sind zwar die ursprünglichen Whisky-Nationen\, heute wird aber in vielen Ecken der Welt Whisky hergestellt und das mit großem Erfolg. Immer beliebter werden amerikanische Whiskys mit Bourbon und Rye-Whiskeys\, aber auch kanadische und japanische Whiskys sind aus den Spirituosenregalen nicht mehr wegzudenken. Inzwischen bringen viele\, vergleichsweise kleine Länder wie Österreich\, Schweden und Taiwan ebenfalls spannende Whiskys hervor\, die unbedingt probiert werden sollten. Gehen Sie bei unserem Whisky-Tasting in Wien mit uns auf Whisky-Weltreise und lernen Sie an einem Abend sechs verschiedene Whiskys aus aller Welt kennen. \n\nUnser charmanter Whisky-Experte Erhard Ruthner empfängt Sie in der stylischen Bar im Trinity Pub.\nNach einer kleinen Einführung in den Ablauf des Abends erfahren Sie Wissenswertes rund um die Geschichte und die Herstellung von Whisky.\nGanz nebenbei lernen Sie mehr über die internationale Whiskykultur.\nNach der Theorie nun an die sinnliche Praxis. Um den vollen Charakter eines Whiskys zu erleben\, verwenden Sie Nase\, Augen und Mund in unserem Whisky-Tasting und lernen die richtigen Techniken des Verkostens kennen.\nSo verkosten Sie 6 verschiedenen Whiskys aus Schottland\, Irland\, den USA\, Japan\, Österreich und anderen Gegenden.\n\nEin klassischer Single Malt Scotch Whisky\nEin typischer Irish Whiskey\nEin besonderer Small Batch Bourbon Whiskey\nEin japanischer Whisky\nEin Premium Whisky aus Skandinavien\, oder Deutschland\nEin feiner Whisky aus Österreich\n\n\nWir bitten um Verständnis\, falls es zu Abweichungen bei den verkosteten Whiskys kommt.\n\nWhiskyweltreise jetzt buchen! \n 
URL:https://raise-your-spirits.at/veranstaltung/whisky-around-the-world-4/
LOCATION:Trinity Pub\, Rilkeplatz 3\, Wien\, Wien\, 1040\, Austria
CATEGORIES:Verkostungen rund um Whisk(e)y
END:VEVENT
BEGIN:VEVENT
DTSTART;TZID=Europe/Berlin:20260310T193000
DTEND;TZID=Europe/Berlin:20260310T210000
DTSTAMP:20260425T223247
CREATED:20250428T122127Z
LAST-MODIFIED:20250622T100500Z
UID:10000015-1773171000-1773176400@raise-your-spirits.at
SUMMARY:Peat Monsters - Gewaltig torfige Malts
DESCRIPTION:Rauchig-torfige Single Malts liegen voll im Trend\, denn aus der Notwendigkeit Malz mit Torffeuer zu trocknen und damit den Rauchgeschmack in Kauf nehmen zu müssen\, ist längst eine geschmackliche Spezialität geworden\, die eine immer größere Fangemeinde in ihren Bann zieht. Unter den schottischen Whiskyregionen ist die kleine Insel Islay die berühmteste\, wenn es Torfgehalt im Whisky geht. Auf der Insel\, die an der Westküste Schottlands ungefähr auf der gleichen geographischen Breite\, wie Glasgow und Edinburgh liegt\, arbeiten derzeit acht Brennereien\, von denen sechs ausschließlich torfigen Malt produzieren. \nBei unserer Verkostung tauchen wir in die Welt des Torfes ein und gehen der Frage nach\, wie der signifikante Rauchgeschmack überhaupt in den fertigen Whisky kommt. Wir verkosten Proben der torfigsten Abfüllungen\, die von den verschiedensten Produzenten derzeit zu haben sind und widmen uns auch Abfüllungen von unabhängigen Firmen\, die Islay Torf gerne in ihrem Programm führen. \n\nDas Tasting findet im der edlen Bar des Trinity Pubs statt\nUnser Whiskyexperte führt Sie durch das Tasting\, erläutert Ihnen die Unterschiede in der Machart der einzelnen Produkte\, erzählt über die Geschichte und Geschichten schottischer Whiskykultur und steht für Ihre Fragen zur Verfügung\nSie lernen die richtigen Verkostungstechniken kennen\, um die unterschiedlichen Geschmackskomponenten im Whisky identifizieren und benennen zu können.\nDas Tasting beinhaltet acht Proben verschiedener torfiger Malt der Insel Islay und bietet Ihnen die Möglichkeit die Unterschiede zu schmecken.\nVerkostet werden*:\n\nEine Auswahl von Single Malt Abfüllungen von den renommierten Brennereien der Insel Islay\, wie Ardbeg\, Bowmore\, Bunnahabhain\, Bruichladdich\, Caol Ila\, Kilchoman\, Lagavulin\, Laphroaig\nSpezialabfüllungen\, zB. die torfigsten Malts der Welt der Marke Octomore\nAbfüllungen von der Isle of Skye\n\n\n\n\nDie Proben umfassen auch Fass Stärken über 50% vol.\n\n*Proben können nach Verfügbarkeit variieren \nPeat Monsters hier buchen!
URL:https://raise-your-spirits.at/veranstaltung/peat-monsters-gewaltig-torfige-malts/
LOCATION:Trinity Pub\, Rilkeplatz 3\, Wien\, Wien\, 1040\, Austria
CATEGORIES:Verkostungen rund um Whisk(e)y
ATTACH;FMTTYPE=image/jpeg:https://raise-your-spirits.at/wp-content/uploads/2024/07/Raise-your-spirits_Whiskey-Whiskey_02.jpg
END:VEVENT
BEGIN:VEVENT
DTSTART;TZID=Europe/Berlin:20251209T193000
DTEND;TZID=Europe/Berlin:20251209T210000
DTSTAMP:20260425T223247
CREATED:20250428T130619Z
LAST-MODIFIED:20250520T140037Z
UID:10000037-1765308600-1765314000@raise-your-spirits.at
SUMMARY:Peat Monsters - Gewaltig torfige Malts
DESCRIPTION:Rauchig-torfige Single Malts liegen voll im Trend\, denn aus der Notwendigkeit Malz mit Torffeuer zu trocknen und damit den Rauchgeschmack in Kauf nehmen zu müssen\, ist längst eine geschmackliche Spezialität geworden\, die eine immer größere Fangemeinde in ihren Bann zieht. Unter den schottischen Whiskyregionen ist die kleine Insel Islay die berühmteste\, wenn es Torfgehalt im Whisky geht. Auf der Insel\, die an der Westküste Schottlands ungefähr auf der gleichen geographischen Breite\, wie Glasgow und Edinburgh liegt\, arbeiten derzeit acht Brennereien\, von denen sechs ausschließlich torfigen Malt produzieren. \nBei unserer Verkostung tauchen wir in die Welt des Torfes ein und gehen der Frage nach\, wie der signifikante Rauchgeschmack überhaupt in den fertigen Whisky kommt. Wir verkosten Proben der torfigsten Abfüllungen\, die von den verschiedensten Produzenten derzeit zu haben sind und widmen uns auch Abfüllungen von unabhängigen Firmen\, die Islay Torf gerne in ihrem Programm führen. \n\nDas Tasting findet im der edlen Bar des Trinity Pubs statt\nUnser Whiskyexperte führt Sie durch das Tasting\, erläutert Ihnen die Unterschiede in der Machart der einzelnen Produkte\, erzählt über die Geschichte und Geschichten schottischer Whiskykultur und steht für Ihre Fragen zur Verfügung\nSie lernen die richtigen Verkostungstechniken kennen\, um die unterschiedlichen Geschmackskomponenten im Whisky identifizieren und benennen zu können.\nDas Tasting beinhaltet acht Proben verschiedener torfiger Malt der Insel Islay und bietet Ihnen die Möglichkeit die Unterschiede zu schmecken.\nVerkostet werden*:\n\nEine Auswahl von Single Malt Abfüllungen von den renommierten Brennereien der Insel Islay\, wie Ardbeg\, Bowmore\, Bunnahabhain\, Bruichladdich\, Caol Ila\, Kilchoman\, Lagavulin\, Laphroaig\nSpezialabfüllungen\, zB. die torfigsten Malts der Welt der Marke Octomore\nAbfüllungen von der Isle of Skye\n\n\n\n\nDie Proben umfassen auch Fass Stärken über 50% vol.\n\n*Proben können nach Verfügbarkeit variieren \nPeat Monsters hier buchen!
URL:https://raise-your-spirits.at/veranstaltung/peat-monsters-gewaltig-torfige-malts-3/
LOCATION:Trinity Pub\, Rilkeplatz 3\, Wien\, Wien\, 1040\, Austria
CATEGORIES:Verkostungen rund um Whisk(e)y
ATTACH;FMTTYPE=image/jpeg:https://raise-your-spirits.at/wp-content/uploads/2024/07/Raise-your-spirits_Whiskey-Whiskey_02.jpg
END:VEVENT
BEGIN:VEVENT
DTSTART;TZID=Europe/Berlin:20251203T193000
DTEND;TZID=Europe/Berlin:20251203T213000
DTSTAMP:20260425T223247
CREATED:20250428T121607Z
LAST-MODIFIED:20250428T121607Z
UID:10000012-1764790200-1764797400@raise-your-spirits.at
SUMMARY:Whisky around the world
DESCRIPTION:Whisky ist auf einem globalen Siegeszug: Schottland und Irland sind zwar die ursprünglichen Whisky-Nationen\, heute wird aber in vielen Ecken der Welt Whisky hergestellt und das mit großem Erfolg. Immer beliebter werden amerikanische Whiskys mit Bourbon und Rye-Whiskeys\, aber auch kanadische und japanische Whiskys sind aus den Spirituosenregalen nicht mehr wegzudenken. Inzwischen bringen viele\, vergleichsweise kleine Länder wie Österreich\, Schweden und Taiwan ebenfalls spannende Whiskys hervor\, die unbedingt probiert werden sollten. Gehen Sie bei unserem Whisky-Tasting in Wien mit uns auf Whisky-Weltreise und lernen Sie an einem Abend sechs verschiedene Whiskys aus aller Welt kennen. \n\nUnser charmanter Whisky-Experte Erhard Ruthner empfängt Sie in der stylischen Bar im Trinity Pub.\nNach einer kleinen Einführung in den Ablauf des Abends erfahren Sie Wissenswertes rund um die Geschichte und die Herstellung von Whisky.\nGanz nebenbei lernen Sie mehr über die internationale Whiskykultur.\nNach der Theorie nun an die sinnliche Praxis. Um den vollen Charakter eines Whiskys zu erleben\, verwenden Sie Nase\, Augen und Mund in unserem Whisky-Tasting und lernen die richtigen Techniken des Verkostens kennen.\nSo verkosten Sie 6 verschiedenen Whiskys aus Schottland\, Irland\, den USA\, Japan\, Österreich und anderen Gegenden.\n\nEin klassischer Single Malt Scotch Whisky\nEin typischer Irish Whiskey\nEin besonderer Small Batch Bourbon Whiskey\nEin japanischer Whisky\nEin Premium Whisky aus Skandinavien\, oder Deutschland\nEin feiner Whisky aus Österreich\n\n\nWir bitten um Verständnis\, falls es zu Abweichungen bei den verkosteten Whiskys kommt.\n\nWhiskyweltreise jetzt buchen! \n 
URL:https://raise-your-spirits.at/veranstaltung/whisky-around-the-world-3/
LOCATION:Trinity Pub\, Rilkeplatz 3\, Wien\, Wien\, 1040\, Austria
CATEGORIES:Verkostungen rund um Whisk(e)y
END:VEVENT
BEGIN:VEVENT
DTSTART;TZID=Europe/Berlin:20251014T193000
DTEND;TZID=Europe/Berlin:20251014T210000
DTSTAMP:20260425T223247
CREATED:20250428T130544Z
LAST-MODIFIED:20250428T130544Z
UID:10000036-1760470200-1760475600@raise-your-spirits.at
SUMMARY:Peat Monsters - Gewaltig torfige Malts
DESCRIPTION:Rauchig-torfige Single Malts liegen voll im Trend\, denn aus der Notwendigkeit Malz mit Torffeuer zu trocknen und damit den Rauchgeschmack in Kauf nehmen zu müssen\, ist längst eine geschmackliche Spezialität geworden\, die eine immer größere Fangemeinde in ihren Bann zieht. Unter den schottischen Whiskyregionen ist die kleine Insel Islay die berühmteste\, wenn es Torfgehalt im Whisky geht. Auf der Insel\, die an der Westküste Schottlands ungefähr auf der gleichen geographischen Breite\, wie Glasgow und Edinburgh liegt\, arbeiten derzeit acht Brennereien\, von denen sechs ausschließlich torfigen Malt produzieren. \nBei unserer Verkostung tauchen wir in die Welt des Torfes ein und gehen der Frage nach\, wie der signifikante Rauchgeschmack überhaupt in den fertigen Whisky kommt. Wir verkosten Proben der torfigsten Abfüllungen\, die von den verschiedensten Produzenten derzeit zu haben sind und widmen uns auch Abfüllungen von unabhängigen Firmen\, die Islay Torf gerne in ihrem Programm führen. \n\nDas Tasting findet im der edlen Bar des Trinity Pubs statt\nUnser Whiskyexperte führt Sie durch das Tasting\, erläutert Ihnen die Unterschiede in der Machart der einzelnen Produkte\, erzählt über die Geschichte und Geschichten schottischer Whiskykultur und steht für Ihre Fragen zur Verfügung\nSie lernen die richtigen Verkostungstechniken kennen\, um die unterschiedlichen Geschmackskomponenten im Whisky identifizieren und benennen zu können.\nDas Tasting beinhaltet acht Proben verschiedener torfiger Malt der Insel Islay und bietet Ihnen die Möglichkeit die Unterschiede zu schmecken.\nVerkostet werden*:\n\nEine Auswahl von Single Malt Abfüllungen von den renommierten Brennereien der Insel Islay\, wie Ardbeg\, Bowmore\, Bunnahabhain\, Bruichladdich\, Caol Ila\, Kilchoman\, Lagavulin\, Laphroaig\nSpezialabfüllungen\, zB. die torfigsten Malts der Welt der Marke Octomore\nAbfüllungen von der Isle of Skye\n\n\n\n\nDie Proben umfassen auch Fass Stärken über 50% vol.\n\n*Proben können nach Verfügbarkeit variieren \nPeat Monsters hier buchen!
URL:https://raise-your-spirits.at/veranstaltung/peat-monsters-gewaltig-torfige-malts-2/
LOCATION:Trinity Pub\, Rilkeplatz 3\, Wien\, Wien\, 1040\, Austria
CATEGORIES:Verkostungen rund um Whisk(e)y
ATTACH;FMTTYPE=image/jpeg:https://raise-your-spirits.at/wp-content/uploads/2024/07/Raise-your-spirits_Whiskey-Whiskey_02.jpg
END:VEVENT
BEGIN:VEVENT
DTSTART;TZID=Europe/Berlin:20250909T193000
DTEND;TZID=Europe/Berlin:20250909T213000
DTSTAMP:20260425T223247
CREATED:20250428T121451Z
LAST-MODIFIED:20250428T121451Z
UID:10000013-1757446200-1757453400@raise-your-spirits.at
SUMMARY:Whisky around the world
DESCRIPTION:Whisky ist auf einem globalen Siegeszug: Schottland und Irland sind zwar die ursprünglichen Whisky-Nationen\, heute wird aber in vielen Ecken der Welt Whisky hergestellt und das mit großem Erfolg. Immer beliebter werden amerikanische Whiskys mit Bourbon und Rye-Whiskeys\, aber auch kanadische und japanische Whiskys sind aus den Spirituosenregalen nicht mehr wegzudenken. Inzwischen bringen viele\, vergleichsweise kleine Länder wie Österreich\, Schweden und Taiwan ebenfalls spannende Whiskys hervor\, die unbedingt probiert werden sollten. Gehen Sie bei unserem Whisky-Tasting in Wien mit uns auf Whisky-Weltreise und lernen Sie an einem Abend sechs verschiedene Whiskys aus aller Welt kennen. \n\nUnser charmanter Whisky-Experte Erhard Ruthner empfängt Sie in der stylischen Bar im Trinity Pub.\nNach einer kleinen Einführung in den Ablauf des Abends erfahren Sie Wissenswertes rund um die Geschichte und die Herstellung von Whisky.\nGanz nebenbei lernen Sie mehr über die internationale Whiskykultur.\nNach der Theorie nun an die sinnliche Praxis. Um den vollen Charakter eines Whiskys zu erleben\, verwenden Sie Nase\, Augen und Mund in unserem Whisky-Tasting und lernen die richtigen Techniken des Verkostens kennen.\nSo verkosten Sie 6 verschiedenen Whiskys aus Schottland\, Irland\, den USA\, Japan\, Österreich und anderen Gegenden.\n\nEin klassischer Single Malt Scotch Whisky\nEin typischer Irish Whiskey\nEin besonderer Small Batch Bourbon Whiskey\nEin japanischer Whisky\nEin Premium Whisky aus Skandinavien\, oder Deutschland\nEin feiner Whisky aus Österreich\n\n\nWir bitten um Verständnis\, falls es zu Abweichungen bei den verkosteten Whiskys kommt.\n\nWhiskyweltreise jetzt buchen! \n 
URL:https://raise-your-spirits.at/veranstaltung/whisky-around-the-world-2/
LOCATION:Trinity Pub\, Rilkeplatz 3\, Wien\, Wien\, 1040\, Austria
CATEGORIES:Verkostungen rund um Whisk(e)y
END:VEVENT
BEGIN:VEVENT
DTSTART;TZID=Europe/Berlin:20250605T193000
DTEND;TZID=Europe/Berlin:20250605T213000
DTSTAMP:20260425T223247
CREATED:20250428T120825Z
LAST-MODIFIED:20250428T121224Z
UID:10000011-1749151800-1749159000@raise-your-spirits.at
SUMMARY:Whisky around the world
DESCRIPTION:Whisky ist auf einem globalen Siegeszug: Schottland und Irland sind zwar die ursprünglichen Whisky-Nationen\, heute wird aber in vielen Ecken der Welt Whisky hergestellt und das mit großem Erfolg. Immer beliebter werden amerikanische Whiskys mit Bourbon und Rye-Whiskeys\, aber auch kanadische und japanische Whiskys sind aus den Spirituosenregalen nicht mehr wegzudenken. Inzwischen bringen viele\, vergleichsweise kleine Länder wie Österreich\, Schweden und Taiwan ebenfalls spannende Whiskys hervor\, die unbedingt probiert werden sollten. Gehen Sie bei unserem Whisky-Tasting in Wien mit uns auf Whisky-Weltreise und lernen Sie an einem Abend sechs verschiedene Whiskys aus aller Welt kennen. \n\nUnser charmanter Whisky-Experte Erhard Ruthner empfängt Sie in der stylischen Bar im Trinity Pub.\nNach einer kleinen Einführung in den Ablauf des Abends erfahren Sie Wissenswertes rund um die Geschichte und die Herstellung von Whisky.\nGanz nebenbei lernen Sie mehr über die internationale Whiskykultur.\nNach der Theorie nun an die sinnliche Praxis. Um den vollen Charakter eines Whiskys zu erleben\, verwenden Sie Nase\, Augen und Mund in unserem Whisky-Tasting und lernen die richtigen Techniken des Verkostens kennen.\nSo verkosten Sie 6 verschiedenen Whiskys aus Schottland\, Irland\, den USA\, Japan\, Österreich und anderen Gegenden.\n\nEin klassischer Single Malt Scotch Whisky\nEin typischer Irish Whiskey\nEin besonderer Small Batch Bourbon Whiskey\nEin japanischer Whisky\nEin Premium Whisky aus Skandinavien\, oder Deutschland\nEin feiner Whisky aus Österreich\n\n\nWir bitten um Verständnis\, falls es zu Abweichungen bei den verkosteten Whiskys kommt.\n\nWhiskyweltreise jetzt buchen! \n 
URL:https://raise-your-spirits.at/veranstaltung/whisky-around-the-world/
LOCATION:Trinity Pub\, Rilkeplatz 3\, Wien\, Wien\, 1040\, Austria
CATEGORIES:Verkostungen rund um Whisk(e)y
END:VEVENT
END:VCALENDAR