BEGIN:VCALENDAR
VERSION:2.0
PRODID:-//Raise your spirits - ECPv6.15.20//NONSGML v1.0//EN
CALSCALE:GREGORIAN
METHOD:PUBLISH
X-ORIGINAL-URL:https://raise-your-spirits.at
X-WR-CALDESC:Veranstaltungen für Raise your spirits
REFRESH-INTERVAL;VALUE=DURATION:PT1H
X-Robots-Tag:noindex
X-PUBLISHED-TTL:PT1H
BEGIN:VTIMEZONE
TZID:Europe/Berlin
BEGIN:DAYLIGHT
TZOFFSETFROM:+0100
TZOFFSETTO:+0200
TZNAME:CEST
DTSTART:20240331T010000
END:DAYLIGHT
BEGIN:STANDARD
TZOFFSETFROM:+0200
TZOFFSETTO:+0100
TZNAME:CET
DTSTART:20241027T010000
END:STANDARD
BEGIN:DAYLIGHT
TZOFFSETFROM:+0100
TZOFFSETTO:+0200
TZNAME:CEST
DTSTART:20250330T010000
END:DAYLIGHT
BEGIN:STANDARD
TZOFFSETFROM:+0200
TZOFFSETTO:+0100
TZNAME:CET
DTSTART:20251026T010000
END:STANDARD
BEGIN:DAYLIGHT
TZOFFSETFROM:+0100
TZOFFSETTO:+0200
TZNAME:CEST
DTSTART:20260329T010000
END:DAYLIGHT
BEGIN:STANDARD
TZOFFSETFROM:+0200
TZOFFSETTO:+0100
TZNAME:CET
DTSTART:20261025T010000
END:STANDARD
BEGIN:DAYLIGHT
TZOFFSETFROM:+0100
TZOFFSETTO:+0200
TZNAME:CEST
DTSTART:20270328T010000
END:DAYLIGHT
BEGIN:STANDARD
TZOFFSETFROM:+0200
TZOFFSETTO:+0100
TZNAME:CET
DTSTART:20271031T010000
END:STANDARD
END:VTIMEZONE
BEGIN:VEVENT
DTSTART;TZID=Europe/Berlin:20260410T190000
DTEND;TZID=Europe/Berlin:20260410T210000
DTSTAMP:20260425T222040
CREATED:20260305T123625Z
LAST-MODIFIED:20260305T123933Z
UID:10000070-1775847600-1775854800@raise-your-spirits.at
SUMMARY:Rum Erlebnisverkostung für Einsteiger
DESCRIPTION:Eine Verkostung für alle\, die die Welt der vielseitigsten Spirituose entdecken wollen. \nWir verkosten gemeinsam sieben Premiumprodukte. Bei der Auswahl der R(h)ums achten wir darauf\, dass wir eine große Vielfalt bieten\, damit garantiert für jeden Geschmack etwas dabei ist. \nThematisch liegt der Schwerpunkt auf der Geschichte des Zuckerrohrs und des R(h)ums. Außerdem beschäftigen wir uns mit dem richtigen Verkosten der Spirituose und geben eine Orientierungshilfe\, um einen Überblick über die Welt des Rums zu gewinnen und mögliche Einteilungen zu treffen. \nTeilnahmegebühr: € 49\,- (inkl. Mwst) | nur Vortrag: € 29\,- (inkl. Mwst) \nBuchungen für dieses Event laufen über rumzentrum.at
URL:https://raise-your-spirits.at/veranstaltung/rum-erlebnisverkostung-fuer-einsteiger-2/2026-04-10/
LOCATION:Rumzentrum.at Onlineshop & Showroom\, Erzherzog Rainer-Ring 14\, Baden\, Niederösterreich\, 2500\, Austria
CATEGORIES:Verkostungen rund um Rum/Rhum
ATTACH;FMTTYPE=image/jpeg:https://raise-your-spirits.at/wp-content/uploads/2025/01/Rumverkostung-Raumansicht-Rumzentrum-scaled.jpg
END:VEVENT
BEGIN:VEVENT
DTSTART;TZID=Europe/Berlin:20251219T190000
DTEND;TZID=Europe/Berlin:20251219T210000
DTSTAMP:20260425T222040
CREATED:20250428T122414Z
LAST-MODIFIED:20250828T105955Z
UID:10000049-1766170800-1766178000@raise-your-spirits.at
SUMMARY:Rum Erlebnisverkostung für Einsteiger
DESCRIPTION:Eine Verkostung für alle\, die die Welt der vielseitigsten Spirituose entdecken wollen. \nWir verkosten gemeinsam sieben Premiumprodukte. Bei der Auswahl der R(h)ums achten wir darauf\, dass wir eine große Vielfalt bieten\, damit garantiert für jeden Geschmack etwas dabei ist. \nThematisch liegt der Schwerpunkt auf der Geschichte des Zuckerrohrs und des R(h)ums. Außerdem beschäftigen wir uns mit dem richtigen Verkosten der Spirituose und geben eine Orientierungshilfe\, um einen Überblick über die Welt des Rums zu gewinnen und mögliche Einteilungen zu treffen. \nTeilnahmegebühr: € 49\,- (inkl. Mwst) | nur Vortrag: € 29\,- (inkl. Mwst) \nBuchungen für dieses Event laufen über rumzentrum.at
URL:https://raise-your-spirits.at/veranstaltung/rum-erlebnisverkostung-fuer-einsteiger/2025-12-19/
LOCATION:Rumzentrum.at Onlineshop & Showroom\, Erzherzog Rainer-Ring 14\, Baden\, Niederösterreich\, 2500\, Austria
CATEGORIES:Verkostungen rund um Rum/Rhum
ATTACH;FMTTYPE=image/jpeg:https://raise-your-spirits.at/wp-content/uploads/2025/01/Rumverkostung-Raumansicht-Rumzentrum-scaled.jpg
END:VEVENT
BEGIN:VEVENT
DTSTART;TZID=Europe/Berlin:20251206T190000
DTEND;TZID=Europe/Berlin:20251206T210000
DTSTAMP:20260425T222040
CREATED:20250428T122414Z
LAST-MODIFIED:20250828T105955Z
UID:10000048-1765047600-1765054800@raise-your-spirits.at
SUMMARY:Rum Erlebnisverkostung für Einsteiger
DESCRIPTION:Eine Verkostung für alle\, die die Welt der vielseitigsten Spirituose entdecken wollen. \nWir verkosten gemeinsam sieben Premiumprodukte. Bei der Auswahl der R(h)ums achten wir darauf\, dass wir eine große Vielfalt bieten\, damit garantiert für jeden Geschmack etwas dabei ist. \nThematisch liegt der Schwerpunkt auf der Geschichte des Zuckerrohrs und des R(h)ums. Außerdem beschäftigen wir uns mit dem richtigen Verkosten der Spirituose und geben eine Orientierungshilfe\, um einen Überblick über die Welt des Rums zu gewinnen und mögliche Einteilungen zu treffen. \nTeilnahmegebühr: € 49\,- (inkl. Mwst) | nur Vortrag: € 29\,- (inkl. Mwst) \nBuchungen für dieses Event laufen über rumzentrum.at
URL:https://raise-your-spirits.at/veranstaltung/rum-erlebnisverkostung-fuer-einsteiger/2025-12-06/
LOCATION:Rumzentrum.at Onlineshop & Showroom\, Erzherzog Rainer-Ring 14\, Baden\, Niederösterreich\, 2500\, Austria
CATEGORIES:Verkostungen rund um Rum/Rhum
ATTACH;FMTTYPE=image/jpeg:https://raise-your-spirits.at/wp-content/uploads/2025/01/Rumverkostung-Raumansicht-Rumzentrum-scaled.jpg
END:VEVENT
BEGIN:VEVENT
DTSTART;TZID=Europe/Berlin:20251121T190000
DTEND;TZID=Europe/Berlin:20251121T210000
DTSTAMP:20260425T222040
CREATED:20250428T122414Z
LAST-MODIFIED:20250828T105955Z
UID:10000047-1763751600-1763758800@raise-your-spirits.at
SUMMARY:Rum Erlebnisverkostung für Einsteiger
DESCRIPTION:Eine Verkostung für alle\, die die Welt der vielseitigsten Spirituose entdecken wollen. \nWir verkosten gemeinsam sieben Premiumprodukte. Bei der Auswahl der R(h)ums achten wir darauf\, dass wir eine große Vielfalt bieten\, damit garantiert für jeden Geschmack etwas dabei ist. \nThematisch liegt der Schwerpunkt auf der Geschichte des Zuckerrohrs und des R(h)ums. Außerdem beschäftigen wir uns mit dem richtigen Verkosten der Spirituose und geben eine Orientierungshilfe\, um einen Überblick über die Welt des Rums zu gewinnen und mögliche Einteilungen zu treffen. \nTeilnahmegebühr: € 49\,- (inkl. Mwst) | nur Vortrag: € 29\,- (inkl. Mwst) \nBuchungen für dieses Event laufen über rumzentrum.at
URL:https://raise-your-spirits.at/veranstaltung/rum-erlebnisverkostung-fuer-einsteiger/2025-11-21/
LOCATION:Rumzentrum.at Onlineshop & Showroom\, Erzherzog Rainer-Ring 14\, Baden\, Niederösterreich\, 2500\, Austria
CATEGORIES:Verkostungen rund um Rum/Rhum
ATTACH;FMTTYPE=image/jpeg:https://raise-your-spirits.at/wp-content/uploads/2025/01/Rumverkostung-Raumansicht-Rumzentrum-scaled.jpg
END:VEVENT
BEGIN:VEVENT
DTSTART;TZID=Europe/Berlin:20251010T190000
DTEND;TZID=Europe/Berlin:20251010T210000
DTSTAMP:20260425T222040
CREATED:20250428T122414Z
LAST-MODIFIED:20250828T105955Z
UID:10000045-1760122800-1760130000@raise-your-spirits.at
SUMMARY:Rum Erlebnisverkostung für Einsteiger
DESCRIPTION:Eine Verkostung für alle\, die die Welt der vielseitigsten Spirituose entdecken wollen. \nWir verkosten gemeinsam sieben Premiumprodukte. Bei der Auswahl der R(h)ums achten wir darauf\, dass wir eine große Vielfalt bieten\, damit garantiert für jeden Geschmack etwas dabei ist. \nThematisch liegt der Schwerpunkt auf der Geschichte des Zuckerrohrs und des R(h)ums. Außerdem beschäftigen wir uns mit dem richtigen Verkosten der Spirituose und geben eine Orientierungshilfe\, um einen Überblick über die Welt des Rums zu gewinnen und mögliche Einteilungen zu treffen. \nTeilnahmegebühr: € 49\,- (inkl. Mwst) | nur Vortrag: € 29\,- (inkl. Mwst) \nBuchungen für dieses Event laufen über rumzentrum.at
URL:https://raise-your-spirits.at/veranstaltung/rum-erlebnisverkostung-fuer-einsteiger/2025-10-10/
LOCATION:Rumzentrum.at Onlineshop & Showroom\, Erzherzog Rainer-Ring 14\, Baden\, Niederösterreich\, 2500\, Austria
CATEGORIES:Verkostungen rund um Rum/Rhum
ATTACH;FMTTYPE=image/jpeg:https://raise-your-spirits.at/wp-content/uploads/2025/01/Rumverkostung-Raumansicht-Rumzentrum-scaled.jpg
END:VEVENT
BEGIN:VEVENT
DTSTART;TZID=Europe/Berlin:20250621T180000
DTEND;TZID=Europe/Berlin:20250621T193000
DTSTAMP:20260425T222040
CREATED:20250428T123107Z
LAST-MODIFIED:20250828T110337Z
UID:10000019-1750528800-1750534200@raise-your-spirits.at
SUMMARY:Whisky - Erlebnisverkostung für Einsteiger
DESCRIPTION:Erlebe die Welt des Whiskies\, bekannt als „Wasser des Lebens“. Whisk(e)y bietet eine Vielfalt an Geschmacksprofilen\, die eng mit seiner Herkunft verbunden sind. Von torfigen\, rauchigen schottischen Malts über samtige irische Whiskeys bis hin zu würzigen amerikanischen Bourbons und eleganten japanischen Whiskys – jeder spiegelt die Charakteristika seiner Region wieder. \nIn unserer Whisk(e)y-Verkostung lernst du die Unterschiede der Sorten kennen und erfährst\, wie Rohstoffe\, Destillation und Fassreifung den Geschmack prägen. Die Geschichten hinter jeder Flasche machen das Tasting zu einem besonderen Erlebnis. \nOb Einsteiger*in oder Kenner*in – unsere Whiskyverkostung vertieft dein Verständnis für die Vielfalt und Komplexität des Whiskys. \nTeilnahmegebühr: € 59\,- (inkl. Mwst) \nBuchungen nur über rumzentum.at
URL:https://raise-your-spirits.at/veranstaltung/whisky-erlebnisverkostung-fuer-einsteiger/
LOCATION:Rumzentrum.at Onlineshop & Showroom\, Erzherzog Rainer-Ring 14\, Baden\, Niederösterreich\, 2500\, Austria
CATEGORIES:Verkostungen rund um Whisk(e)y
ATTACH;FMTTYPE=image/jpeg:https://raise-your-spirits.at/wp-content/uploads/2024/04/Finde-den-Schotten-5-scaled.jpg
END:VEVENT
BEGIN:VEVENT
DTSTART;TZID=Europe/Berlin:20250530T180000
DTEND;TZID=Europe/Berlin:20250530T200000
DTSTAMP:20260425T222040
CREATED:20250428T120433Z
LAST-MODIFIED:20260305T124601Z
UID:10000009-1748628000-1748635200@raise-your-spirits.at
SUMMARY:R(h)um und Schokolade
DESCRIPTION:„Für Alle diejenigen die ihre Kenntnis vertiefen wollen und Schokolade mögen“\nRum und Schokolade \nEine Verkostung für alle\, die ein gutes Glas Rum oder Rumlikör zu schätzen wissen und dazu auch gerne mal feinste Schokolade probieren wollen! \nVerkostet werden sieben Premiumr(h)ums. Abgestimmt darauf werden feinste Schokoladenkostproben gereicht. Die Auswahl der Produkte erfolgt in enger Absprache mit einem*einer R(h)um Expert*in und einem Chocolatier. Dazu gibt es Informationen zu den Produkten und den Herkunftsländern. \nFür diese Verkostung empfehlen wir davor den Besuch eines Einsteiger*innen-Tastings (Erlebnisverkostung). \nTeilnahmegebühr: € 54\,- (inkl. Mwst) nur der Vortrag: € 29\,- (inkl. Mwst) \nACHTUNG: Besuche bitte davor die „Erlebnisverkostung – Rumverkostung für Einsteigerinnen und Einsteiger“ \nBuchung erfolgt über rumzentrum.at
URL:https://raise-your-spirits.at/veranstaltung/rhum-und-schokolade/2025-05-30/
LOCATION:Rumzentrum.at Onlineshop & Showroom\, Erzherzog Rainer-Ring 14\, Baden\, Niederösterreich\, 2500\, Austria
CATEGORIES:Verkostungen rund um Rum/Rhum
ATTACH;FMTTYPE=image/jpeg:https://raise-your-spirits.at/wp-content/uploads/2025/01/Rum-und-Schokolade-Rumzentrum-scaled.jpg
END:VEVENT
BEGIN:VEVENT
DTSTART;TZID=Europe/Berlin:20250428T080000
DTEND;TZID=Europe/Berlin:20250428T170000
DTSTAMP:20260425T222040
CREATED:20250428T115955Z
LAST-MODIFIED:20250428T120124Z
UID:10000008-1745827200-1745859600@raise-your-spirits.at
SUMMARY:Rum - Neues entdecken (für Fortgeschrittene)
DESCRIPTION:„Für Alle\, die ihre Kenntnis vertiefen wollen“\nRumverkostung für Fortgeschrittene \nEine Verkostung für all jene\, die bereits erste Erfahrungen gemacht haben und ihren Rum-Horizont erweitern möchten. \nDiese Verkostung ist für dich\, wenn du schon Erfahrungen mit R(h)um gemacht hast. Wir verkosten sieben R(h)ums\, wobei andere Produkte als bei der Verkostung für Einsteiger*innen präsentiert werden. Bei unserer Auswahl achten wir stets auf die Qualität der Produkte. \nDer Themenschwerpunkt dieser Verkostung liegt auf der Herstellung eines Premiumr(h)ums – ein sehr komplexer und spannender Vorgang. Dabei wird auf das Basiswissen der Verkostung für Einsteiger*innen aufgebaut. Weiters werden wir uns mit dem faszinierenden Rhum Agricole beschäftigen. \nTeilnahmegebühr: € 49\,- (inkl. Mwst) | nur der Vortrag: € 29\,- (inkl. Mwst) \nACHTUNG: Besuche bitte davor die „Erlebnisverkostung – Rumverkostung für Einsteigerinnen und Einsteiger“! \nBuchungen erfolgen über rumzentrum.at
URL:https://raise-your-spirits.at/veranstaltung/rum-neues-entdecken-fuer-fortgeschrittene/
LOCATION:Rumzentrum.at Onlineshop & Showroom\, Erzherzog Rainer-Ring 14\, Baden\, Niederösterreich\, 2500\, Austria
CATEGORIES:Verkostungen rund um Rum/Rhum
ATTACH;FMTTYPE=image/jpeg:https://raise-your-spirits.at/wp-content/uploads/2025/01/Rumverkostung-Verkostungswagen-Rumzentrum-scaled.jpg
END:VEVENT
END:VCALENDAR