BEGIN:VCALENDAR
VERSION:2.0
PRODID:-//Raise your spirits - ECPv6.15.20//NONSGML v1.0//EN
CALSCALE:GREGORIAN
METHOD:PUBLISH
X-ORIGINAL-URL:https://raise-your-spirits.at
X-WR-CALDESC:Veranstaltungen für Raise your spirits
REFRESH-INTERVAL;VALUE=DURATION:PT1H
X-Robots-Tag:noindex
X-PUBLISHED-TTL:PT1H
BEGIN:VTIMEZONE
TZID:Europe/Berlin
BEGIN:DAYLIGHT
TZOFFSETFROM:+0100
TZOFFSETTO:+0200
TZNAME:CEST
DTSTART:20240331T010000
END:DAYLIGHT
BEGIN:STANDARD
TZOFFSETFROM:+0200
TZOFFSETTO:+0100
TZNAME:CET
DTSTART:20241027T010000
END:STANDARD
BEGIN:DAYLIGHT
TZOFFSETFROM:+0100
TZOFFSETTO:+0200
TZNAME:CEST
DTSTART:20250330T010000
END:DAYLIGHT
BEGIN:STANDARD
TZOFFSETFROM:+0200
TZOFFSETTO:+0100
TZNAME:CET
DTSTART:20251026T010000
END:STANDARD
BEGIN:DAYLIGHT
TZOFFSETFROM:+0100
TZOFFSETTO:+0200
TZNAME:CEST
DTSTART:20260329T010000
END:DAYLIGHT
BEGIN:STANDARD
TZOFFSETFROM:+0200
TZOFFSETTO:+0100
TZNAME:CET
DTSTART:20261025T010000
END:STANDARD
END:VTIMEZONE
BEGIN:VEVENT
DTSTART;TZID=Europe/Berlin:20251122T180000
DTEND;TZID=Europe/Berlin:20251122T220000
DTSTAMP:20260426T043937
CREATED:20250604T105553Z
LAST-MODIFIED:20250604T105553Z
UID:10000044-1763834400-1763848800@raise-your-spirits.at
SUMMARY:Rumtasting und Grillbuffet bei Adi Matzek
DESCRIPTION:GEFÜHRTE RUMVERKOSTUNG MIT GRILL & BBQ-BUFFET VOM WELTMEISTERTEAM\nGetränke all inclusive \nLeidenschaft\, Liebe zum Genießen und die Freude an hochwertigen Lebens- und Genussmittel werden in der 1. Grillschule Österreichs geboten. \nUnser geführtes Rum-Tasting mit Vortrag und Ihren persönlichen Fragemöglichkeiten wird mit Sicherheit eine tolle Erfahrung und ein genussvoller Abend für Sie werden. Lektüren zu Thema Rum sind zum Schmökern vorhanden. \nFalls Sie gerne eine Begleitperson mitnehmen wollen\, die die Rum-Verkostung nicht genießen will/kann\, dann finden Sie ein Ticket mit vergünstigtem Angebot im Buchungsfeld. \nWAS SIE ERWARTET\n\n17:30 Einlass\n18:00 Ankommen\n18:15 Begrüßung und Erklärung des Abends\n18:30 bis 19:15 Grill & BBQ-Buffet\n19:30 Beginn Rumverkostung\nca. 21:30 Präsentation der Auswertung des Abends\n22:00 Ende der Veranstaltung\nGeführte Verkostung und Querverkostung durch einen Spirituosenfachmann von 8 Premium und Top Premium Rumsorten mit dem Rum-Tasting Tischset\nPersönliche Rankingliste\nAuswertung aller Rankinglisten und Reihung der verkosteten Produkte für den persönlichen Vergleich\nGemeinsamer Eintrag des Verkostungsergebnisses in den Rum-Kompass®\nEigenes Rumzimmer mit Rumpräsentation\nPremium Rum Produktpräsentation und Einkaufsmöglichkeit\, für Ihren Einkauf sind an die 100 Premiumsorten lagernd\nBücher rund ums Thema Rum zur Einsichtnahme vorhanden\nOffener Erfahrungsaustausch mit entspanntem Ausklang\n\nWAS iST INKLUDIERT\n\nköstliches Grill & BBQ-Buffet inkl. Dessert\nGenussvolle Leitung durch Certified Advisor of Spirits Erhard Ruthner\nVerkostungsunterlagen\, Tischwasser und Knabbereien\npersönliche Rankingliste per Schulnotensystem\nAuswertung des Abends – Siegerliste aller Rumsorten-Bewertungen der Teilnehmer\nGetränke wie Alkoholfreies\, Kaffee\, Grillschulwein und Bier\n\n\n\nIhre Investition: € 94\,00 pro Person (incl. Ust.) \nGenuss/Tasting/Seminardauer: 18:00 – ca. 22:00 Uhr \nDiese Veranstaltung ist zum Teil ein Open Air Event und findet bei jeder Witterung statt. \nJetzt Buchen
URL:https://raise-your-spirits.at/veranstaltung/rumtasting-und-grillbuffet-bei-adi-matzek/
LOCATION:Adi Matzek\, Burgerwiesen 8\, Altenburg\, Niederösterreich\, 3591\, Austria
CATEGORIES:Verkostungen rund um Rum/Rhum
ATTACH;FMTTYPE=image/jpeg:https://raise-your-spirits.at/wp-content/uploads/2024/08/20230804_214003-scaled.jpg
END:VEVENT
END:VCALENDAR